BEGIN:VCALENDAR
VERSION:2.0
PRODID:-//Pinnacle Climbing Centre in Northampton - ECPv6.15.18//NONSGML v1.0//EN
CALSCALE:GREGORIAN
METHOD:PUBLISH
X-ORIGINAL-URL:https://thepinnaclecentre.co.uk
X-WR-CALDESC:Events for Pinnacle Climbing Centre in Northampton
REFRESH-INTERVAL;VALUE=DURATION:PT1H
X-Robots-Tag:noindex
X-PUBLISHED-TTL:PT1H
BEGIN:VTIMEZONE
TZID:UTC
BEGIN:STANDARD
TZOFFSETFROM:+0000
TZOFFSETTO:+0000
TZNAME:UTC
DTSTART:20250101T000000
END:STANDARD
END:VTIMEZONE
BEGIN:VEVENT
DTSTART;TZID=UTC:20260426T180000
DTEND;TZID=UTC:20260426T200000
DTSTAMP:20260425T123433
CREATED:20251114T141757Z
LAST-MODIFIED:20251118T204722Z
UID:120098-1777226400-1777233600@thepinnaclecentre.co.uk
SUMMARY:Ladies Social and Coaching Night
DESCRIPTION:Ladies Social and Coaching Night is a relaxed and supportive evening designed for women to connect\, climb\, and build confidence together. Whether you’re new or experienced\, you’ll enjoy expert coaching\, tips to improve your skills\, and plenty of time to socialize with a welcoming community. It’s the perfect mix of learning\, fun\, and friendship on the wall.
URL:https://thepinnaclecentre.co.uk/event/ladies-social-and-coaching-night-5/
LOCATION:The Pinnacle Bouldering Centre\, Weston Favell Shopping Centre
END:VEVENT
BEGIN:VEVENT
DTSTART;TZID=UTC:20260427T190000
DTEND;TZID=UTC:20260427T220000
DTSTAMP:20260425T123433
CREATED:20251113T210010Z
LAST-MODIFIED:20260226T151131Z
UID:119956-1777316400-1777327200@thepinnaclecentre.co.uk
SUMMARY:Social night
DESCRIPTION:Join us every Monday for a relaxed evening with fellow climbers. Enjoy free pizza while you climb\, chat and unwind. 🍕
URL:https://thepinnaclecentre.co.uk/event/social-night-24/
LOCATION:The Pinnacle Bouldering Centre\, Weston Favell Shopping Centre
END:VEVENT
BEGIN:VEVENT
DTSTART;TZID=UTC:20260430T170000
DTEND;TZID=UTC:20260430T220000
DTSTAMP:20260425T123433
CREATED:20251114T135136Z
LAST-MODIFIED:20251114T135136Z
UID:120060-1777568400-1777586400@thepinnaclecentre.co.uk
SUMMARY:One night bloc
DESCRIPTION:One night bloc is a fast paced\, high stakes challenge\, where you only get one shot to prove yourself. The problem drops a 5pm and disappears at 10pm. No second chances\, no extensions. It’s just you\, your skills and 5 hours to crack it.
URL:https://thepinnaclecentre.co.uk/event/one-night-bloc-16/
LOCATION:The Pinnacle Bouldering Centre\, Weston Favell Shopping Centre
END:VEVENT
END:VCALENDAR