BEGIN:VCALENDAR
VERSION:2.0
PRODID:-//Pinnacle Climbing Centre in Northampton - ECPv6.15.18//NONSGML v1.0//EN
CALSCALE:GREGORIAN
METHOD:PUBLISH
X-WR-CALNAME:Pinnacle Climbing Centre in Northampton
X-ORIGINAL-URL:https://thepinnaclecentre.co.uk
X-WR-CALDESC:Events for Pinnacle Climbing Centre in Northampton
REFRESH-INTERVAL;VALUE=DURATION:PT1H
X-Robots-Tag:noindex
X-PUBLISHED-TTL:PT1H
BEGIN:VTIMEZONE
TZID:UTC
BEGIN:STANDARD
TZOFFSETFROM:+0000
TZOFFSETTO:+0000
TZNAME:UTC
DTSTART:20250101T000000
END:STANDARD
END:VTIMEZONE
BEGIN:VEVENT
DTSTART;TZID=UTC:20260302T190000
DTEND;TZID=UTC:20260302T220000
DTSTAMP:20260425T134609
CREATED:20251113T205306Z
LAST-MODIFIED:20260226T145930Z
UID:119926-1772478000-1772488800@thepinnaclecentre.co.uk
SUMMARY:Social night
DESCRIPTION:  \nJoin us every Monday for a relaxed evening with fellow climbers. Enjoy free pizza while you climb\, chat and unwind. 🍕
URL:https://thepinnaclecentre.co.uk/event/social-night-14/
LOCATION:The Pinnacle Bouldering Centre\, Weston Favell Shopping Centre
END:VEVENT
BEGIN:VEVENT
DTSTART;TZID=UTC:20260305T170000
DTEND;TZID=UTC:20260305T220000
DTSTAMP:20260425T134609
CREATED:20251114T134427Z
LAST-MODIFIED:20251114T134427Z
UID:120068-1772730000-1772748000@thepinnaclecentre.co.uk
SUMMARY:One night bloc
DESCRIPTION:One night bloc is a fast paced\, high stakes challenge\, where you only get one shot to prove yourself. The problem drops a 5pm and disappears at 10pm. No second chances\, no extensions. It’s just you\, your skills and 5 hours to crack it.
URL:https://thepinnaclecentre.co.uk/event/one-night-bloc-8/
LOCATION:The Pinnacle Bouldering Centre\, Weston Favell Shopping Centre
END:VEVENT
BEGIN:VEVENT
DTSTART;TZID=UTC:20260305T200000
DTEND;TZID=UTC:20260305T210000
DTSTAMP:20260425T134609
CREATED:20251113T143822Z
LAST-MODIFIED:20251113T143822Z
UID:119864-1772740800-1772744400@thepinnaclecentre.co.uk
SUMMARY:Masterclass: Dynamic vs Static Movement
DESCRIPTION:Master when to commit to explosive movement vs staying controlled. Work deadpoints\, jumps\, and coordination.
URL:https://thepinnaclecentre.co.uk/event/dynamic-vs-static-movement/
LOCATION:The Pinnacle Bouldering Centre\, Weston Favell Shopping Centre
END:VEVENT
BEGIN:VEVENT
DTSTART;TZID=UTC:20260309T190000
DTEND;TZID=UTC:20260309T220000
DTSTAMP:20260425T134609
CREATED:20251113T205333Z
LAST-MODIFIED:20260226T150026Z
UID:119927-1773082800-1773093600@thepinnaclecentre.co.uk
SUMMARY:Social night
DESCRIPTION:Join us every Monday for a relaxed evening with fellow climbers. Enjoy free pizza while you climb\, chat and unwind. 🍕
URL:https://thepinnaclecentre.co.uk/event/social-night-15/
LOCATION:The Pinnacle Bouldering Centre\, Weston Favell Shopping Centre
END:VEVENT
BEGIN:VEVENT
DTSTART;TZID=UTC:20260312T170000
DTEND;TZID=UTC:20260312T220000
DTSTAMP:20260425T134609
CREATED:20251114T134515Z
LAST-MODIFIED:20251114T134515Z
UID:120067-1773334800-1773352800@thepinnaclecentre.co.uk
SUMMARY:One night bloc
DESCRIPTION:One night bloc is a fast paced\, high stakes challenge\, where you only get one shot to prove yourself. The problem drops a 5pm and disappears at 10pm. No second chances\, no extensions. It’s just you\, your skills and 5 hours to crack it.
URL:https://thepinnaclecentre.co.uk/event/one-night-bloc-9/
LOCATION:The Pinnacle Bouldering Centre\, Weston Favell Shopping Centre
END:VEVENT
BEGIN:VEVENT
DTSTART;TZID=UTC:20260314T190000
DTEND;TZID=UTC:20260314T220000
DTSTAMP:20260425T134609
CREATED:20251114T144536Z
LAST-MODIFIED:20260203T111356Z
UID:120126-1773514800-1773525600@thepinnaclecentre.co.uk
SUMMARY:Bouldering UV Night
DESCRIPTION:UV Night is coming to the Pinnacle Bouldering Centre. Get ready for fluorescent facepaint\, epic glow in the dark climbing walls and pumping music to keep the energy high. Its going to be a night to remember-don’t miss it.
URL:https://thepinnaclecentre.co.uk/event/bouldering-uv-night/
LOCATION:The Pinnacle Bouldering Centre\, Weston Favell Shopping Centre
END:VEVENT
BEGIN:VEVENT
DTSTART;TZID=UTC:20260316T190000
DTEND;TZID=UTC:20260316T220000
DTSTAMP:20260425T134609
CREATED:20251113T205405Z
LAST-MODIFIED:20260226T150114Z
UID:119928-1773687600-1773698400@thepinnaclecentre.co.uk
SUMMARY:Social night
DESCRIPTION:Join us every Monday for a relaxed evening with fellow climbers. Enjoy free pizza while you climb\, chat and unwind. 🍕
URL:https://thepinnaclecentre.co.uk/event/social-night-16/
LOCATION:The Pinnacle Bouldering Centre\, Weston Favell Shopping Centre
END:VEVENT
BEGIN:VEVENT
DTSTART;TZID=UTC:20260319T170000
DTEND;TZID=UTC:20260319T220000
DTSTAMP:20260425T134609
CREATED:20251114T134600Z
LAST-MODIFIED:20251114T134600Z
UID:120066-1773939600-1773957600@thepinnaclecentre.co.uk
SUMMARY:One night bloc
DESCRIPTION:One night bloc is a fast paced\, high stakes challenge\, where you only get one shot to prove yourself. The problem drops a 5pm and disappears at 10pm. No second chances\, no extensions. It’s just you\, your skills and 5 hours to crack it.
URL:https://thepinnaclecentre.co.uk/event/one-night-bloc-10/
LOCATION:The Pinnacle Bouldering Centre\, Weston Favell Shopping Centre
END:VEVENT
BEGIN:VEVENT
DTSTART;TZID=UTC:20260323T190000
DTEND;TZID=UTC:20260323T220000
DTSTAMP:20260425T134609
CREATED:20251113T205434Z
LAST-MODIFIED:20260226T150201Z
UID:119929-1774292400-1774303200@thepinnaclecentre.co.uk
SUMMARY:Social night
DESCRIPTION:Join us every Monday for a relaxed evening with fellow climbers. Enjoy free pizza while you climb\, chat and unwind. 🍕
URL:https://thepinnaclecentre.co.uk/event/social-night-17/
LOCATION:The Pinnacle Bouldering Centre\, Weston Favell Shopping Centre
END:VEVENT
BEGIN:VEVENT
DTSTART;TZID=UTC:20260326T170000
DTEND;TZID=UTC:20260326T220000
DTSTAMP:20260425T134609
CREATED:20251114T134637Z
LAST-MODIFIED:20251114T134637Z
UID:120065-1774544400-1774562400@thepinnaclecentre.co.uk
SUMMARY:One night bloc
DESCRIPTION:One night bloc is a fast paced\, high stakes challenge\, where you only get one shot to prove yourself. The problem drops a 5pm and disappears at 10pm. No second chances\, no extensions. It’s just you\, your skills and 5 hours to crack it.
URL:https://thepinnaclecentre.co.uk/event/one-night-bloc-11/
LOCATION:The Pinnacle Bouldering Centre\, Weston Favell Shopping Centre
END:VEVENT
BEGIN:VEVENT
DTSTART;TZID=UTC:20260329T180000
DTEND;TZID=UTC:20260329T200000
DTSTAMP:20260425T134609
CREATED:20251114T141658Z
LAST-MODIFIED:20251118T204814Z
UID:120099-1774807200-1774814400@thepinnaclecentre.co.uk
SUMMARY:Ladies Social and Coaching Night
DESCRIPTION:Ladies Social and Coaching Night is a relaxed and supportive evening designed for women to connect\, climb\, and build confidence together. Whether you’re new or experienced\, you’ll enjoy expert coaching\, tips to improve your skills\, and plenty of time to socialize with a welcoming community. It’s the perfect mix of learning\, fun\, and friendship on the wall.
URL:https://thepinnaclecentre.co.uk/event/ladies-social-and-coaching-night-4/
LOCATION:The Pinnacle Bouldering Centre\, Weston Favell Shopping Centre
END:VEVENT
BEGIN:VEVENT
DTSTART;TZID=UTC:20260330T190000
DTEND;TZID=UTC:20260330T220000
DTSTAMP:20260425T134609
CREATED:20251113T205507Z
LAST-MODIFIED:20260226T150247Z
UID:119930-1774897200-1774908000@thepinnaclecentre.co.uk
SUMMARY:Social night
DESCRIPTION:Join us every Monday for a relaxed evening with fellow climbers. Enjoy free pizza while you climb\, chat and unwind. 🍕
URL:https://thepinnaclecentre.co.uk/event/social-night-18/
LOCATION:The Pinnacle Bouldering Centre\, Weston Favell Shopping Centre
END:VEVENT
END:VCALENDAR