BEGIN:VCALENDAR
VERSION:2.0
PRODID:-//Pinnacle Climbing Centre in Northampton - ECPv6.15.18//NONSGML v1.0//EN
CALSCALE:GREGORIAN
METHOD:PUBLISH
X-WR-CALNAME:Pinnacle Climbing Centre in Northampton
X-ORIGINAL-URL:https://thepinnaclecentre.co.uk
X-WR-CALDESC:Events for Pinnacle Climbing Centre in Northampton
REFRESH-INTERVAL;VALUE=DURATION:PT1H
X-Robots-Tag:noindex
X-PUBLISHED-TTL:PT1H
BEGIN:VTIMEZONE
TZID:UTC
BEGIN:STANDARD
TZOFFSETFROM:+0000
TZOFFSETTO:+0000
TZNAME:UTC
DTSTART:20250101T000000
END:STANDARD
END:VTIMEZONE
BEGIN:VEVENT
DTSTART;TZID=UTC:20260202T190000
DTEND;TZID=UTC:20260202T220000
DTSTAMP:20260425T145901
CREATED:20251113T204057Z
LAST-MODIFIED:20251113T204057Z
UID:119925-1770058800-1770069600@thepinnaclecentre.co.uk
SUMMARY:Social night
DESCRIPTION:  \nJoin us every Monday for a relaxed evening with fellow climbers. Enjoy a free hot drink and cake while you climb\, chat and unwind.
URL:https://thepinnaclecentre.co.uk/event/social-night-10/
LOCATION:The Pinnacle Bouldering Centre\, Weston Favell Shopping Centre
END:VEVENT
BEGIN:VEVENT
DTSTART;TZID=UTC:20260205T200000
DTEND;TZID=UTC:20260205T210000
DTSTAMP:20260425T145901
CREATED:20251113T143657Z
LAST-MODIFIED:20251113T143657Z
UID:119863-1770321600-1770325200@thepinnaclecentre.co.uk
SUMMARY:Masterclass: Climbing Smarter\, Not Stronger
DESCRIPTION:Learn how to conserve energy\, spot rest positions\, and use technique over raw power. Perfect for winter motivation and efficiency gains!
URL:https://thepinnaclecentre.co.uk/event/climbing-smarter-not-stronger/
LOCATION:The Pinnacle Bouldering Centre\, Weston Favell Shopping Centre
END:VEVENT
BEGIN:VEVENT
DTSTART;TZID=UTC:20260207T100000
DTEND;TZID=UTC:20260207T150000
DTSTAMP:20260425T145901
CREATED:20251114T143810Z
LAST-MODIFIED:20260126T131122Z
UID:120121-1770458400-1770476400@thepinnaclecentre.co.uk
SUMMARY:Pinnacle Bouldering's 1st Birthday Bash
DESCRIPTION:The Pinnacle Bouldering Centre is turning ONE and we’re celebrating the only way we know how! With a birthday bash 🎉 Join us on Saturday 7th Feb from 10am–3pm for a full day of climbing\, chaos\, and good vibes\, with £10 all-day entry (free for members). Expect fun challenge problems like limbo traverses and no-hands climbs\, raffle routes where grabbing a ticket could win you prizes\, disco lighting and music\, classic party games popping up throughout the day\, boulder bingo with prizes\, and of course… birthday cake 🎂 We’ll also have a social wall celebrating your favourite climbing moments from the past year. Come climb\, laugh\, try something silly\, and help us blow out the candle with the best community around 🥳
URL:https://thepinnaclecentre.co.uk/event/pinnacle-boulderings-1st-birthday-bash/
LOCATION:The Pinnacle Bouldering Centre\, Weston Favell Shopping Centre
END:VEVENT
BEGIN:VEVENT
DTSTART;TZID=UTC:20260209T190000
DTEND;TZID=UTC:20260209T220000
DTSTAMP:20260425T145901
CREATED:20251113T204128Z
LAST-MODIFIED:20251113T204128Z
UID:119937-1770663600-1770674400@thepinnaclecentre.co.uk
SUMMARY:Social night
DESCRIPTION:  \nJoin us every Monday for a relaxed evening with fellow climbers. Enjoy a free hot drink and cake while you climb\, chat and unwind.
URL:https://thepinnaclecentre.co.uk/event/social-night-11/
LOCATION:The Pinnacle Bouldering Centre\, Weston Favell Shopping Centre
END:VEVENT
BEGIN:VEVENT
DTSTART;TZID=UTC:20260216T190000
DTEND;TZID=UTC:20260216T220000
DTSTAMP:20260425T145901
CREATED:20251113T204449Z
LAST-MODIFIED:20251113T204449Z
UID:119935-1771268400-1771279200@thepinnaclecentre.co.uk
SUMMARY:Social night
DESCRIPTION:  \nJoin us every Monday for a relaxed evening with fellow climbers. Enjoy a free hot drink and cake while you climb\, chat and unwind.
URL:https://thepinnaclecentre.co.uk/event/social-night-13/
LOCATION:The Pinnacle Bouldering Centre\, Weston Favell Shopping Centre
END:VEVENT
BEGIN:VEVENT
DTSTART;VALUE=DATE:20260220
DTEND;VALUE=DATE:20260221
DTSTAMP:20260425T145901
CREATED:20251114T143423Z
LAST-MODIFIED:20251118T152141Z
UID:120118-1771545600-1771631999@thepinnaclecentre.co.uk
SUMMARY:Winter League R3
DESCRIPTION:Round 3 of our winter league. 25 new problems to test your skills\, perfect your tactics\, track your progress and see how you stack up against others. Score cards for all 3 rounds are just £5 and available from reception.
URL:https://thepinnaclecentre.co.uk/event/winter-league-r3/
LOCATION:The Pinnacle Bouldering Centre\, Weston Favell Shopping Centre
END:VEVENT
BEGIN:VEVENT
DTSTART;TZID=UTC:20260222T180000
DTEND;TZID=UTC:20260222T200000
DTSTAMP:20260425T145901
CREATED:20251114T141612Z
LAST-MODIFIED:20251118T204913Z
UID:120100-1771783200-1771790400@thepinnaclecentre.co.uk
SUMMARY:Ladies Social and Coaching Night
DESCRIPTION:Ladies Social and Coaching Night is a relaxed and supportive evening designed for women to connect\, climb\, and build confidence together. Whether you’re new or experienced\, you’ll enjoy expert coaching\, tips to improve your skills\, and plenty of time to socialize with a welcoming community. It’s the perfect mix of learning\, fun\, and friendship on the wall.
URL:https://thepinnaclecentre.co.uk/event/ladies-social-and-coaching-night-3/
LOCATION:The Pinnacle Bouldering Centre\, Weston Favell Shopping Centre
END:VEVENT
BEGIN:VEVENT
DTSTART;TZID=UTC:20260223T190000
DTEND;TZID=UTC:20260223T220000
DTSTAMP:20260425T145901
CREATED:20251113T204213Z
LAST-MODIFIED:20251113T204233Z
UID:119936-1771873200-1771884000@thepinnaclecentre.co.uk
SUMMARY:Social night
DESCRIPTION:  \nJoin us every Monday for a relaxed evening with fellow climbers. Enjoy a free hot drink and cake while you climb\, chat and unwind.
URL:https://thepinnaclecentre.co.uk/event/social-night-12/
LOCATION:The Pinnacle Bouldering Centre\, Weston Favell Shopping Centre
END:VEVENT
END:VCALENDAR