BEGIN:VCALENDAR
VERSION:2.0
PRODID:-//Pinnacle Climbing Centre in Northampton - ECPv6.15.18//NONSGML v1.0//EN
CALSCALE:GREGORIAN
METHOD:PUBLISH
X-WR-CALNAME:Pinnacle Climbing Centre in Northampton
X-ORIGINAL-URL:https://thepinnaclecentre.co.uk
X-WR-CALDESC:Events for Pinnacle Climbing Centre in Northampton
REFRESH-INTERVAL;VALUE=DURATION:PT1H
X-Robots-Tag:noindex
X-PUBLISHED-TTL:PT1H
BEGIN:VTIMEZONE
TZID:UTC
BEGIN:STANDARD
TZOFFSETFROM:+0000
TZOFFSETTO:+0000
TZNAME:UTC
DTSTART:20240101T000000
END:STANDARD
END:VTIMEZONE
BEGIN:VEVENT
DTSTART;TZID=UTC:20251228T180000
DTEND;TZID=UTC:20251228T200000
DTSTAMP:20260426T004844
CREATED:20251114T141244Z
LAST-MODIFIED:20251118T205100Z
UID:120092-1766944800-1766952000@thepinnaclecentre.co.uk
SUMMARY:Ladies Social and Coaching Night
DESCRIPTION:Ladies Social and Coaching Night is a relaxed and supportive evening designed for women to connect\, climb\, and build confidence together. Whether you’re new or experienced\, you’ll enjoy expert coaching\, tips to improve your skills\, and plenty of time to socialize with a welcoming community. It’s the perfect mix of learning\, fun\, and friendship on the wall.
URL:https://thepinnaclecentre.co.uk/event/ladies-social-and-coaching-night/
LOCATION:The Pinnacle Bouldering Centre\, Weston Favell Shopping Centre
END:VEVENT
BEGIN:VEVENT
DTSTART;TZID=UTC:20251222T190000
DTEND;TZID=UTC:20251222T220000
DTSTAMP:20260426T004844
CREATED:20251113T202433Z
LAST-MODIFIED:20251113T203202Z
UID:119908-1766430000-1766440800@thepinnaclecentre.co.uk
SUMMARY:Christmas Social night
DESCRIPTION:  \nRelaxed evening with fellow climbers. Enjoy a free hot drink and a Mince Pie while you climb\, chat and unwind. Santa hats are welcome.
URL:https://thepinnaclecentre.co.uk/event/social-night-4/
LOCATION:The Pinnacle Bouldering Centre\, Weston Favell Shopping Centre
END:VEVENT
BEGIN:VEVENT
DTSTART;TZID=UTC:20251218T170000
DTEND;TZID=UTC:20251218T220000
DTSTAMP:20260426T004844
CREATED:20251113T212320Z
LAST-MODIFIED:20251113T212320Z
UID:119979-1766077200-1766095200@thepinnaclecentre.co.uk
SUMMARY:One night bloc
DESCRIPTION:One night bloc is a fast paced\, high stakes challenge\, where you only get one shot to prove yourself. The problem drops a 5pm and disappears at 10pm. No second chances\, no extensions. It’s just you\, your skills and 5 hours to crack it.
URL:https://thepinnaclecentre.co.uk/event/one-night-bloc-2/
LOCATION:The Pinnacle Bouldering Centre\, Weston Favell Shopping Centre
END:VEVENT
BEGIN:VEVENT
DTSTART;TZID=UTC:20251215T190000
DTEND;TZID=UTC:20251215T220000
DTSTAMP:20260426T004844
CREATED:20251113T202400Z
LAST-MODIFIED:20251113T202400Z
UID:119907-1765825200-1765836000@thepinnaclecentre.co.uk
SUMMARY:Social night
DESCRIPTION:  \nJoin us every Monday for a relaxed evening with fellow climbers. Enjoy a free hot drink and cake while you climb\, chat and unwind.
URL:https://thepinnaclecentre.co.uk/event/social-night-3/
LOCATION:The Pinnacle Bouldering Centre\, Weston Favell Shopping Centre
END:VEVENT
BEGIN:VEVENT
DTSTART;TZID=UTC:20251211T200000
DTEND;TZID=UTC:20251211T210000
DTSTAMP:20260426T004844
CREATED:20251007T140050Z
LAST-MODIFIED:20251113T143118Z
UID:115622-1765483200-1765486800@thepinnaclecentre.co.uk
SUMMARY:Masterclass: Projecting Like a Pro
DESCRIPTION:Break down boulders\, problem-solve efficiently\, and work past mental blocks when climbs feel impossible.
URL:https://thepinnaclecentre.co.uk/event/masterclass-body-positioning-technique/
LOCATION:The Pinnacle Bouldering Centre\, Weston Favell Shopping Centre
END:VEVENT
BEGIN:VEVENT
DTSTART;TZID=UTC:20251211T170000
DTEND;TZID=UTC:20251211T220000
DTSTAMP:20260426T004844
CREATED:20251113T212450Z
LAST-MODIFIED:20251113T212450Z
UID:119978-1765472400-1765490400@thepinnaclecentre.co.uk
SUMMARY:One night bloc
DESCRIPTION:One night bloc is a fast paced\, high stakes challenge\, where you only get one shot to prove yourself. The problem drops a 5pm and disappears at 10pm. No second chances\, no extensions. It’s just you\, your skills and 5 hours to crack it.
URL:https://thepinnaclecentre.co.uk/event/one-night-bloc-3/
LOCATION:The Pinnacle Bouldering Centre\, Weston Favell Shopping Centre
END:VEVENT
BEGIN:VEVENT
DTSTART;TZID=UTC:20251208T190000
DTEND;TZID=UTC:20251208T220000
DTSTAMP:20260426T004844
CREATED:20251113T202331Z
LAST-MODIFIED:20251113T202331Z
UID:119906-1765220400-1765231200@thepinnaclecentre.co.uk
SUMMARY:Social night
DESCRIPTION:  \nJoin us every Monday for a relaxed evening with fellow climbers. Enjoy a free hot drink and cake while you climb\, chat and unwind.
URL:https://thepinnaclecentre.co.uk/event/social-night-2/
LOCATION:The Pinnacle Bouldering Centre\, Weston Favell Shopping Centre
END:VEVENT
BEGIN:VEVENT
DTSTART;TZID=UTC:20251204T170000
DTEND;TZID=UTC:20251204T220000
DTSTAMP:20260426T004844
CREATED:20251113T211901Z
LAST-MODIFIED:20251113T211901Z
UID:119972-1764867600-1764885600@thepinnaclecentre.co.uk
SUMMARY:One night bloc
DESCRIPTION:One night bloc is a fast paced\, high stakes challenge\, where you only get one shot to prove yourself. The problem drops a 5pm and disappears at 10pm. No second chances\, no extensions. It’s just you\, your skills and 5 hours to crack it.
URL:https://thepinnaclecentre.co.uk/event/one-night-bloc/
LOCATION:The Pinnacle Bouldering Centre\, Weston Favell Shopping Centre
END:VEVENT
BEGIN:VEVENT
DTSTART;TZID=UTC:20251201T190000
DTEND;TZID=UTC:20251201T220000
DTSTAMP:20260426T004844
CREATED:20251113T201714Z
LAST-MODIFIED:20251113T202038Z
UID:119899-1764615600-1764626400@thepinnaclecentre.co.uk
SUMMARY:Social night
DESCRIPTION:  \nJoin us every Monday for a relaxed evening with fellow climbers. Enjoy a free hot drink and cake while you climb\, chat and unwind.
URL:https://thepinnaclecentre.co.uk/event/social-night/
LOCATION:The Pinnacle Bouldering Centre\, Weston Favell Shopping Centre
END:VEVENT
BEGIN:VEVENT
DTSTART;TZID=UTC:20251130T180000
DTEND;TZID=UTC:20251130T200000
DTSTAMP:20260426T004844
CREATED:20251114T150413Z
LAST-MODIFIED:20251118T204259Z
UID:120141-1764525600-1764532800@thepinnaclecentre.co.uk
SUMMARY:Ladies Social and Coaching Night
DESCRIPTION:Ladies Social and Coaching Night is a relaxed and supportive evening designed for women to connect\, climb\, and build confidence together. Whether you’re new or experienced\, you’ll enjoy expert coaching\, tips to improve your skills\, and plenty of time to socialize with a welcoming community. It’s the perfect mix of learning\, fun\, and friendship on the wall.
URL:https://thepinnaclecentre.co.uk/event/ladies-social-and-coaching-night-8/
LOCATION:The Pinnacle Bouldering Centre\, Weston Favell Shopping Centre
END:VEVENT
BEGIN:VEVENT
DTSTART;VALUE=DATE:20251128
DTEND;VALUE=DATE:20251129
DTSTAMP:20260426T004844
CREATED:20251114T150623Z
LAST-MODIFIED:20251114T150623Z
UID:120144-1764288000-1764374399@thepinnaclecentre.co.uk
SUMMARY:Winter League R1
DESCRIPTION:Round 1 of our winter league. 25 new problems to test your skills\, perfect your tactics\, track your progress and see how you stack up against others. Score cards for all 3 rounds are just £5 and available from reception.
URL:https://thepinnaclecentre.co.uk/event/winter-league-r1/
LOCATION:The Pinnacle Bouldering Centre\, Weston Favell Shopping Centre
END:VEVENT
BEGIN:VEVENT
DTSTART;TZID=UTC:20251127T170000
DTEND;TZID=UTC:20251127T220000
DTSTAMP:20260426T004844
CREATED:20251114T150310Z
LAST-MODIFIED:20251114T150310Z
UID:120137-1764262800-1764280800@thepinnaclecentre.co.uk
SUMMARY:One night bloc
DESCRIPTION:One night bloc is a fast paced\, high stakes challenge\, where you only get one shot to prove yourself. The problem drops a 5pm and disappears at 10pm. No second chances\, no extensions. It’s just you\, your skills and 5 hours to crack it.
URL:https://thepinnaclecentre.co.uk/event/one-night-bloc-26/
LOCATION:The Pinnacle Bouldering Centre\, Weston Favell Shopping Centre
END:VEVENT
BEGIN:VEVENT
DTSTART;TZID=UTC:20251124T190000
DTEND;TZID=UTC:20251124T220000
DTSTAMP:20260426T004844
CREATED:20251114T150111Z
LAST-MODIFIED:20251114T150111Z
UID:120132-1764010800-1764021600@thepinnaclecentre.co.uk
SUMMARY:Social night
DESCRIPTION:  \nJoin us every Monday for a relaxed evening with fellow climbers. Enjoy a free hot drink and cake while you climb\, chat and unwind.
URL:https://thepinnaclecentre.co.uk/event/social-night-33/
LOCATION:The Pinnacle Bouldering Centre\, Weston Favell Shopping Centre
END:VEVENT
BEGIN:VEVENT
DTSTART;TZID=UTC:20251120T170000
DTEND;TZID=UTC:20251120T220000
DTSTAMP:20260426T004844
CREATED:20251114T150233Z
LAST-MODIFIED:20251114T150233Z
UID:120138-1763658000-1763676000@thepinnaclecentre.co.uk
SUMMARY:One night bloc
DESCRIPTION:One night bloc is a fast paced\, high stakes challenge\, where you only get one shot to prove yourself. The problem drops a 5pm and disappears at 10pm. No second chances\, no extensions. It’s just you\, your skills and 5 hours to crack it.
URL:https://thepinnaclecentre.co.uk/event/one-night-bloc-25/
LOCATION:The Pinnacle Bouldering Centre\, Weston Favell Shopping Centre
END:VEVENT
BEGIN:VEVENT
DTSTART;TZID=UTC:20251117T190000
DTEND;TZID=UTC:20251117T220000
DTSTAMP:20260426T004844
CREATED:20251114T150038Z
LAST-MODIFIED:20251114T150038Z
UID:120133-1763406000-1763416800@thepinnaclecentre.co.uk
SUMMARY:Social night
DESCRIPTION:  \nJoin us every Monday for a relaxed evening with fellow climbers. Enjoy a free hot drink and cake while you climb\, chat and unwind.
URL:https://thepinnaclecentre.co.uk/event/social-night-32/
LOCATION:The Pinnacle Bouldering Centre\, Weston Favell Shopping Centre
END:VEVENT
END:VCALENDAR