BEGIN:VCALENDAR
VERSION:2.0
PRODID:-//Pinnacle Climbing Centre in Northampton - ECPv6.15.18//NONSGML v1.0//EN
CALSCALE:GREGORIAN
METHOD:PUBLISH
X-WR-CALNAME:Pinnacle Climbing Centre in Northampton
X-ORIGINAL-URL:https://thepinnaclecentre.co.uk
X-WR-CALDESC:Events for Pinnacle Climbing Centre in Northampton
REFRESH-INTERVAL;VALUE=DURATION:PT1H
X-Robots-Tag:noindex
X-PUBLISHED-TTL:PT1H
BEGIN:VTIMEZONE
TZID:UTC
BEGIN:STANDARD
TZOFFSETFROM:+0000
TZOFFSETTO:+0000
TZNAME:UTC
DTSTART:20250101T000000
END:STANDARD
END:VTIMEZONE
BEGIN:VEVENT
DTSTART;TZID=UTC:20260518T190000
DTEND;TZID=UTC:20260518T220000
DTSTAMP:20260425T163602
CREATED:20251113T210510Z
LAST-MODIFIED:20251113T210510Z
UID:119955-1779130800-1779141600@thepinnaclecentre.co.uk
SUMMARY:Social night
DESCRIPTION:  \nJoin us every Monday for a relaxed evening with fellow climbers. Enjoy a free hot drink and cake while you climb\, chat and unwind.
URL:https://thepinnaclecentre.co.uk/event/social-night-25/
LOCATION:The Pinnacle Bouldering Centre\, Weston Favell Shopping Centre
END:VEVENT
BEGIN:VEVENT
DTSTART;TZID=UTC:20260521T170000
DTEND;TZID=UTC:20260521T220000
DTSTAMP:20260425T163602
CREATED:20251114T135547Z
LAST-MODIFIED:20251114T135547Z
UID:120058-1779382800-1779400800@thepinnaclecentre.co.uk
SUMMARY:One night bloc
DESCRIPTION:One night bloc is a fast paced\, high stakes challenge\, where you only get one shot to prove yourself. The problem drops a 5pm and disappears at 10pm. No second chances\, no extensions. It’s just you\, your skills and 5 hours to crack it.
URL:https://thepinnaclecentre.co.uk/event/one-night-bloc-18/
LOCATION:The Pinnacle Bouldering Centre\, Weston Favell Shopping Centre
END:VEVENT
BEGIN:VEVENT
DTSTART;TZID=UTC:20260525T190000
DTEND;TZID=UTC:20260525T220000
DTSTAMP:20260425T163602
CREATED:20251113T210555Z
LAST-MODIFIED:20251113T210555Z
UID:119954-1779735600-1779746400@thepinnaclecentre.co.uk
SUMMARY:Social night
DESCRIPTION:  \nJoin us every Monday for a relaxed evening with fellow climbers. Enjoy a free hot drink and cake while you climb\, chat and unwind.
URL:https://thepinnaclecentre.co.uk/event/social-night-26/
LOCATION:The Pinnacle Bouldering Centre\, Weston Favell Shopping Centre
END:VEVENT
BEGIN:VEVENT
DTSTART;TZID=UTC:20260528T170000
DTEND;TZID=UTC:20260528T220000
DTSTAMP:20260425T163602
CREATED:20251114T135631Z
LAST-MODIFIED:20251114T135631Z
UID:120057-1779987600-1780005600@thepinnaclecentre.co.uk
SUMMARY:One night bloc
DESCRIPTION:One night bloc is a fast paced\, high stakes challenge\, where you only get one shot to prove yourself. The problem drops a 5pm and disappears at 10pm. No second chances\, no extensions. It’s just you\, your skills and 5 hours to crack it.
URL:https://thepinnaclecentre.co.uk/event/one-night-bloc-19/
LOCATION:The Pinnacle Bouldering Centre\, Weston Favell Shopping Centre
END:VEVENT
BEGIN:VEVENT
DTSTART;TZID=UTC:20260530T080000
DTEND;TZID=UTC:20260530T170000
DTSTAMP:20260425T163602
CREATED:20251114T142323Z
LAST-MODIFIED:20251114T142323Z
UID:120111-1780128000-1780160400@thepinnaclecentre.co.uk
SUMMARY:Climbing Film Night
DESCRIPTION:TBC
URL:https://thepinnaclecentre.co.uk/event/climbing-film-night/
LOCATION:The Pinnacle Bouldering Centre\, Weston Favell Shopping Centre
END:VEVENT
BEGIN:VEVENT
DTSTART;TZID=UTC:20260531T180000
DTEND;TZID=UTC:20260531T200000
DTSTAMP:20260425T163602
CREATED:20251114T141907Z
LAST-MODIFIED:20251118T204631Z
UID:120106-1780250400-1780257600@thepinnaclecentre.co.uk
SUMMARY:Ladies Social and Coaching Night
DESCRIPTION:Ladies Social and Coaching Night is a relaxed and supportive evening designed for women to connect\, climb\, and build confidence together. Whether you’re new or experienced\, you’ll enjoy expert coaching\, tips to improve your skills\, and plenty of time to socialize with a welcoming community. It’s the perfect mix of learning\, fun\, and friendship on the wall.
URL:https://thepinnaclecentre.co.uk/event/ladies-social-and-coaching-night-6/
LOCATION:The Pinnacle Bouldering Centre\, Weston Favell Shopping Centre
END:VEVENT
BEGIN:VEVENT
DTSTART;TZID=UTC:20260601T190000
DTEND;TZID=UTC:20260601T220000
DTSTAMP:20260425T163602
CREATED:20251113T210634Z
LAST-MODIFIED:20251113T210634Z
UID:119953-1780340400-1780351200@thepinnaclecentre.co.uk
SUMMARY:Social night
DESCRIPTION:  \nJoin us every Monday for a relaxed evening with fellow climbers. Enjoy a free hot drink and cake while you climb\, chat and unwind.
URL:https://thepinnaclecentre.co.uk/event/social-night-27/
LOCATION:The Pinnacle Bouldering Centre\, Weston Favell Shopping Centre
END:VEVENT
BEGIN:VEVENT
DTSTART;TZID=UTC:20260604T170000
DTEND;TZID=UTC:20260604T220000
DTSTAMP:20260425T163602
CREATED:20251114T135909Z
LAST-MODIFIED:20251114T135909Z
UID:120055-1780592400-1780610400@thepinnaclecentre.co.uk
SUMMARY:One night bloc
DESCRIPTION:One night bloc is a fast paced\, high stakes challenge\, where you only get one shot to prove yourself. The problem drops a 5pm and disappears at 10pm. No second chances\, no extensions. It’s just you\, your skills and 5 hours to crack it.
URL:https://thepinnaclecentre.co.uk/event/one-night-bloc-21/
LOCATION:The Pinnacle Bouldering Centre\, Weston Favell Shopping Centre
END:VEVENT
BEGIN:VEVENT
DTSTART;TZID=UTC:20260604T200000
DTEND;TZID=UTC:20260604T210000
DTSTAMP:20260425T163602
CREATED:20251113T144229Z
LAST-MODIFIED:20251113T144229Z
UID:119867-1780603200-1780606800@thepinnaclecentre.co.uk
SUMMARY:Masterclass: Core Strength & Tension on the Wall
DESCRIPTION:Build full-body control\, learn tension drills\, and how to keep your hips engaged through every move.
URL:https://thepinnaclecentre.co.uk/event/core-strength-tension-on-the-wall/
LOCATION:The Pinnacle Bouldering Centre\, Weston Favell Shopping Centre
END:VEVENT
BEGIN:VEVENT
DTSTART;TZID=UTC:20260608T190000
DTEND;TZID=UTC:20260608T220000
DTSTAMP:20260425T163602
CREATED:20251113T210701Z
LAST-MODIFIED:20251113T210701Z
UID:119952-1780945200-1780956000@thepinnaclecentre.co.uk
SUMMARY:Social night
DESCRIPTION:  \nJoin us every Monday for a relaxed evening with fellow climbers. Enjoy a free hot drink and cake while you climb\, chat and unwind.
URL:https://thepinnaclecentre.co.uk/event/social-night-28/
LOCATION:The Pinnacle Bouldering Centre\, Weston Favell Shopping Centre
END:VEVENT
BEGIN:VEVENT
DTSTART;TZID=UTC:20260611T170000
DTEND;TZID=UTC:20260611T220000
DTSTAMP:20260425T163602
CREATED:20251114T140056Z
LAST-MODIFIED:20251114T140056Z
UID:120086-1781197200-1781215200@thepinnaclecentre.co.uk
SUMMARY:One night bloc
DESCRIPTION:One night bloc is a fast paced\, high stakes challenge\, where you only get one shot to prove yourself. The problem drops a 5pm and disappears at 10pm. No second chances\, no extensions. It’s just you\, your skills and 5 hours to crack it.
URL:https://thepinnaclecentre.co.uk/event/one-night-bloc-22/
LOCATION:The Pinnacle Bouldering Centre\, Weston Favell Shopping Centre
END:VEVENT
BEGIN:VEVENT
DTSTART;TZID=UTC:20260615T190000
DTEND;TZID=UTC:20260615T220000
DTSTAMP:20260425T163602
CREATED:20251113T210729Z
LAST-MODIFIED:20251113T210729Z
UID:119951-1781550000-1781560800@thepinnaclecentre.co.uk
SUMMARY:Social night
DESCRIPTION:  \nJoin us every Monday for a relaxed evening with fellow climbers. Enjoy a free hot drink and cake while you climb\, chat and unwind.
URL:https://thepinnaclecentre.co.uk/event/social-night-29/
LOCATION:The Pinnacle Bouldering Centre\, Weston Favell Shopping Centre
END:VEVENT
BEGIN:VEVENT
DTSTART;TZID=UTC:20260618T170000
DTEND;TZID=UTC:20260618T220000
DTSTAMP:20260425T163602
CREATED:20251114T140215Z
LAST-MODIFIED:20251114T140215Z
UID:120085-1781802000-1781820000@thepinnaclecentre.co.uk
SUMMARY:One night bloc
DESCRIPTION:One night bloc is a fast paced\, high stakes challenge\, where you only get one shot to prove yourself. The problem drops a 5pm and disappears at 10pm. No second chances\, no extensions. It’s just you\, your skills and 5 hours to crack it.
URL:https://thepinnaclecentre.co.uk/event/one-night-bloc-23/
LOCATION:The Pinnacle Bouldering Centre\, Weston Favell Shopping Centre
END:VEVENT
BEGIN:VEVENT
DTSTART;TZID=UTC:20260622T190000
DTEND;TZID=UTC:20260622T220000
DTSTAMP:20260425T163602
CREATED:20251113T210812Z
LAST-MODIFIED:20251113T210812Z
UID:119950-1782154800-1782165600@thepinnaclecentre.co.uk
SUMMARY:Social night
DESCRIPTION:  \nJoin us every Monday for a relaxed evening with fellow climbers. Enjoy a free hot drink and cake while you climb\, chat and unwind.
URL:https://thepinnaclecentre.co.uk/event/social-night-30/
LOCATION:The Pinnacle Bouldering Centre\, Weston Favell Shopping Centre
END:VEVENT
BEGIN:VEVENT
DTSTART;TZID=UTC:20260625T170000
DTEND;TZID=UTC:20260625T220000
DTSTAMP:20260425T163602
CREATED:20251114T140308Z
LAST-MODIFIED:20251114T140308Z
UID:120054-1782406800-1782424800@thepinnaclecentre.co.uk
SUMMARY:One night bloc
DESCRIPTION:One night bloc is a fast paced\, high stakes challenge\, where you only get one shot to prove yourself. The problem drops a 5pm and disappears at 10pm. No second chances\, no extensions. It’s just you\, your skills and 5 hours to crack it.
URL:https://thepinnaclecentre.co.uk/event/one-night-bloc-24/
LOCATION:The Pinnacle Bouldering Centre\, Weston Favell Shopping Centre
END:VEVENT
BEGIN:VEVENT
DTSTART;TZID=UTC:20260626T080000
DTEND;TZID=UTC:20260626T170000
DTSTAMP:20260425T163602
CREATED:20251114T142158Z
LAST-MODIFIED:20251114T142158Z
UID:120109-1782460800-1782493200@thepinnaclecentre.co.uk
SUMMARY:Summer League R1
DESCRIPTION:TBC
URL:https://thepinnaclecentre.co.uk/event/summer-league-r1/
LOCATION:The Pinnacle Bouldering Centre\, Weston Favell Shopping Centre
END:VEVENT
BEGIN:VEVENT
DTSTART;TZID=UTC:20260628T180000
DTEND;TZID=UTC:20260628T200000
DTSTAMP:20260425T163602
CREATED:20251114T142004Z
LAST-MODIFIED:20251118T204431Z
UID:120097-1782669600-1782676800@thepinnaclecentre.co.uk
SUMMARY:Ladies Social and Coaching Night
DESCRIPTION:Ladies Social and Coaching Night is a relaxed and supportive evening designed for women to connect\, climb\, and build confidence together. Whether you’re new or experienced\, you’ll enjoy expert coaching\, tips to improve your skills\, and plenty of time to socialize with a welcoming community. It’s the perfect mix of learning\, fun\, and friendship on the wall.
URL:https://thepinnaclecentre.co.uk/event/ladies-social-and-coaching-night-7/
LOCATION:The Pinnacle Bouldering Centre\, Weston Favell Shopping Centre
END:VEVENT
BEGIN:VEVENT
DTSTART;TZID=UTC:20260629T190000
DTEND;TZID=UTC:20260629T220000
DTSTAMP:20260425T163602
CREATED:20251113T210917Z
LAST-MODIFIED:20260226T145514Z
UID:119970-1782759600-1782770400@thepinnaclecentre.co.uk
SUMMARY:Social night
DESCRIPTION:  \nJoin us every Monday for a relaxed evening with fellow climbers. Enjoy free pizza while you climb\, chat and unwind. 🍕
URL:https://thepinnaclecentre.co.uk/event/social-night-31/
LOCATION:The Pinnacle Bouldering Centre\, Weston Favell Shopping Centre
END:VEVENT
END:VCALENDAR